BEGIN:VCALENDAR
VERSION:2.0
PRODID:-//phil.firespring.org//NONSGML kigkonsult.se iCalcreator 2.30.10//
CALSCALE:GREGORIAN
METHOD:PUBLISH
UID:c1b7356f-e8ba-4fa8-a730-a34440c4bdaf
X-WR-CALDESC:Please bring drinking water
X-WR-RELCALID:2ea6c3d735d5407eedbe35581ba9933e
X-WR-TIMEZONE:America/Chicago
BEGIN:VTIMEZONE
TZID:America/Chicago
BEGIN:STANDARD
TZNAME:CST
DTSTART:20191103T020000
TZOFFSETFROM:-0500
TZOFFSETTO:-0600
RDATE:20201101T020000
END:STANDARD
BEGIN:DAYLIGHT
TZNAME:CDT
DTSTART:20190310T020000
TZOFFSETFROM:-0600
TZOFFSETTO:-0500
RDATE:20200308T020000
RDATE:20210314T020000
END:DAYLIGHT
END:VTIMEZONE
BEGIN:VEVENT
UID:182ba94a-daaa-4195-9f76-fd0a4df18a70
DTSTAMP:20260426T043604Z
DESCRIPTION:Please bring drinking water
DTSTART;TZID=America/Chicago:20200206T160000
DTEND;TZID=America/Chicago:20200206T170000
LOCATION:Firespring
SUMMARY:Walking Group
END:VEVENT
END:VCALENDAR
