BEGIN:VCALENDAR
VERSION:2.0
PRODID:-//phil.firespring.org//NONSGML kigkonsult.se iCalcreator 2.30.10//
CALSCALE:GREGORIAN
METHOD:PUBLISH
UID:10f136d1-d094-4ac7-828b-92f3b7ccec49
X-WR-CALDESC:
X-WR-RELCALID:19f04a1d9655515f07ea7748e6ba5f38
X-WR-TIMEZONE:America/Chicago
BEGIN:VTIMEZONE
TZID:America/Chicago
BEGIN:STANDARD
TZNAME:CST
DTSTART:20191103T020000
TZOFFSETFROM:-0500
TZOFFSETTO:-0600
RDATE:20201101T020000
END:STANDARD
BEGIN:DAYLIGHT
TZNAME:CDT
DTSTART:20190310T020000
TZOFFSETFROM:-0600
TZOFFSETTO:-0500
RDATE:20200308T020000
RDATE:20210314T020000
END:DAYLIGHT
END:VTIMEZONE
BEGIN:VEVENT
UID:a63b7547-9b98-4522-8d7c-8bed8af08348
DTSTAMP:20260426T030650Z
DESCRIPTION:
DTSTART;TZID=America/Chicago:20200306T073000
DTEND;TZID=America/Chicago:20200306T083000
LOCATION:
SUMMARY:2019 Westminster Public Schools Foundation Breakfast
END:VEVENT
END:VCALENDAR
