BEGIN:VCALENDAR
VERSION:2.0
PRODID:-//phil.firespring.org//NONSGML kigkonsult.se iCalcreator 2.30.10//
CALSCALE:GREGORIAN
METHOD:PUBLISH
UID:08298745-f373-4ae4-b0df-7115fdd83e30
X-WR-CALDESC:Please bring drinking water
X-WR-RELCALID:9a6a130ed13113353c1c6c3c7e372be3
X-WR-TIMEZONE:America/Chicago
BEGIN:VTIMEZONE
TZID:America/Chicago
BEGIN:STANDARD
TZNAME:CST
DTSTART:20191103T020000
TZOFFSETFROM:-0500
TZOFFSETTO:-0600
RDATE:20201101T020000
END:STANDARD
BEGIN:DAYLIGHT
TZNAME:CDT
DTSTART:20200308T020000
TZOFFSETFROM:-0600
TZOFFSETTO:-0500
RDATE:20210314T020000
END:DAYLIGHT
END:VTIMEZONE
BEGIN:VEVENT
UID:1beecade-01ab-4874-8672-c8ff55557b9b
DTSTAMP:20260426T030638Z
DESCRIPTION:Please bring drinking water
DTSTART;TZID=America/Chicago:20200312T160000
DTEND;TZID=America/Chicago:20200312T170000
LOCATION:Firespring
SUMMARY:Walking Group
END:VEVENT
END:VCALENDAR
