BEGIN:VCALENDAR
VERSION:2.0
PRODID:-//phil.firespring.org//NONSGML kigkonsult.se iCalcreator 2.30.10//
CALSCALE:GREGORIAN
METHOD:PUBLISH
UID:1a4d49c2-f177-442f-907b-83a12380e866
X-WR-CALDESC:
X-WR-RELCALID:79acb7b3c1b9fe156adba254bf595b8d
X-WR-TIMEZONE:America/Chicago
BEGIN:VTIMEZONE
TZID:America/Chicago
BEGIN:STANDARD
TZNAME:CST
DTSTART:20191103T020000
TZOFFSETFROM:-0500
TZOFFSETTO:-0600
RDATE:20201101T020000
END:STANDARD
BEGIN:DAYLIGHT
TZNAME:CDT
DTSTART:20200308T020000
TZOFFSETFROM:-0600
TZOFFSETTO:-0500
RDATE:20210314T020000
END:DAYLIGHT
END:VTIMEZONE
BEGIN:VEVENT
UID:9562640b-6dce-486d-88d5-505c85ce483e
DTSTAMP:20260426T030652Z
DESCRIPTION:
DTSTART;TZID=America/Chicago:20200313T120000
DTEND;TZID=America/Chicago:20200313T130000
LOCATION:
SUMMARY:Volunteer Appreciation Event
END:VEVENT
END:VCALENDAR
