BEGIN:VCALENDAR
VERSION:2.0
PRODID:-//phil.firespring.org//NONSGML kigkonsult.se iCalcreator 2.30.10//
CALSCALE:GREGORIAN
METHOD:PUBLISH
UID:d685964f-6bf2-41e1-a92c-41708642235a
X-WR-CALDESC:
X-WR-RELCALID:741cea135be01299d843ffea5952f799
X-WR-TIMEZONE:America/Chicago
BEGIN:VTIMEZONE
TZID:America/Chicago
BEGIN:STANDARD
TZNAME:CST
DTSTART:20191103T020000
TZOFFSETFROM:-0500
TZOFFSETTO:-0600
RDATE:20201101T020000
END:STANDARD
BEGIN:DAYLIGHT
TZNAME:CDT
DTSTART:20200308T020000
TZOFFSETFROM:-0600
TZOFFSETTO:-0500
RDATE:20210314T020000
END:DAYLIGHT
END:VTIMEZONE
BEGIN:VEVENT
UID:e18b102a-edbf-4522-bbe0-a10b7ecd62d3
DTSTAMP:20260426T030650Z
DESCRIPTION:
DTSTART;TZID=America/Chicago:20200331T143000
DTEND;TZID=America/Chicago:20200331T153000
LOCATION:
SUMMARY:Soccer Sign up
END:VEVENT
END:VCALENDAR
