BEGIN:VCALENDAR
VERSION:2.0
PRODID:-//phil.firespring.org//NONSGML kigkonsult.se iCalcreator 2.30.10//
CALSCALE:GREGORIAN
METHOD:PUBLISH
UID:51c7d064-d258-40af-83f2-67dd7ddc5d8b
X-WR-CALDESC:
X-WR-RELCALID:f55c73312ea9a5fa71e4d8e28414b761
X-WR-TIMEZONE:America/Chicago
BEGIN:VTIMEZONE
TZID:America/Chicago
BEGIN:STANDARD
TZNAME:CST
DTSTART:20191103T020000
TZOFFSETFROM:-0500
TZOFFSETTO:-0600
RDATE:20201101T020000
END:STANDARD
BEGIN:DAYLIGHT
TZNAME:CDT
DTSTART:20200308T020000
TZOFFSETFROM:-0600
TZOFFSETTO:-0500
RDATE:20210314T020000
END:DAYLIGHT
END:VTIMEZONE
BEGIN:VEVENT
UID:c905a40a-01bc-48bd-85bf-02031c3fc0c5
DTSTAMP:20260426T030520Z
DESCRIPTION:
DTSTART;TZID=America/Chicago:20200331T160000
DTEND;TZID=America/Chicago:20200331T170000
LOCATION:
SUMMARY:Summit 2020
END:VEVENT
END:VCALENDAR
