BEGIN:VCALENDAR
VERSION:2.0
PRODID:-//phil.firespring.org//NONSGML kigkonsult.se iCalcreator 2.30.10//
CALSCALE:GREGORIAN
METHOD:PUBLISH
UID:bea4a9e2-40c2-49ec-afea-60d5564a6699
X-WR-CALDESC:
X-WR-RELCALID:d7cd6267a8f91c58a5c6f0f018f16237
X-WR-TIMEZONE:America/Chicago
BEGIN:VTIMEZONE
TZID:America/Chicago
BEGIN:STANDARD
TZNAME:CST
DTSTART:20191103T020000
TZOFFSETFROM:-0500
TZOFFSETTO:-0600
RDATE:20201101T020000
END:STANDARD
BEGIN:DAYLIGHT
TZNAME:CDT
DTSTART:20200308T020000
TZOFFSETFROM:-0600
TZOFFSETTO:-0500
RDATE:20210314T020000
END:DAYLIGHT
END:VTIMEZONE
BEGIN:VEVENT
UID:9f80c7c3-6993-40fc-8340-75b359169903
DTSTAMP:20260426T030538Z
DESCRIPTION:
DTSTART;TZID=America/Chicago:20200331T123000
DTEND;TZID=America/Chicago:20200331T133000
LOCATION:
SUMMARY:Wine & Beer tasting Benefit
END:VEVENT
END:VCALENDAR
