BEGIN:VCALENDAR
VERSION:2.0
PRODID:-//phil.firespring.org//NONSGML kigkonsult.se iCalcreator 2.30.10//
CALSCALE:GREGORIAN
METHOD:PUBLISH
UID:9972079f-d479-425f-b8fa-215c82853175
X-WR-CALDESC:Please bring drinking water
X-WR-RELCALID:aa8460a17f790ad3d7073f80b5c06ac0
X-WR-TIMEZONE:America/Chicago
BEGIN:VTIMEZONE
TZID:America/Chicago
BEGIN:STANDARD
TZNAME:CST
DTSTART:20191103T020000
TZOFFSETFROM:-0500
TZOFFSETTO:-0600
RDATE:20201101T020000
END:STANDARD
BEGIN:DAYLIGHT
TZNAME:CDT
DTSTART:20200308T020000
TZOFFSETFROM:-0600
TZOFFSETTO:-0500
RDATE:20210314T020000
END:DAYLIGHT
END:VTIMEZONE
BEGIN:VEVENT
UID:ab3a0186-5ec2-408b-b0ed-dd03a861b8cc
DTSTAMP:20260426T012943Z
DESCRIPTION:Please bring drinking water
DTSTART;TZID=America/Chicago:20200409T160000
DTEND;TZID=America/Chicago:20200409T170000
LOCATION:Firespring
SUMMARY:Walking Group
END:VEVENT
END:VCALENDAR
