BEGIN:VCALENDAR
VERSION:2.0
PRODID:-//phil.firespring.org//NONSGML kigkonsult.se iCalcreator 2.30.10//
CALSCALE:GREGORIAN
METHOD:PUBLISH
UID:48840a93-1b65-47be-8a22-e8fbb71b7711
X-WR-CALDESC:Please bring drinking water
X-WR-RELCALID:5aa8f1546400b5908787c181e85d5adf
X-WR-TIMEZONE:America/Chicago
BEGIN:VTIMEZONE
TZID:America/Chicago
BEGIN:STANDARD
TZNAME:CST
DTSTART:20191103T020000
TZOFFSETFROM:-0500
TZOFFSETTO:-0600
RDATE:20201101T020000
RDATE:20211107T020000
END:STANDARD
BEGIN:DAYLIGHT
TZNAME:CDT
DTSTART:20200308T020000
TZOFFSETFROM:-0600
TZOFFSETTO:-0500
RDATE:20210314T020000
END:DAYLIGHT
END:VTIMEZONE
BEGIN:VEVENT
UID:c67b3a4e-62eb-4f49-9409-11484048a50c
DTSTAMP:20260426T000559Z
DESCRIPTION:Please bring drinking water
DTSTART;TZID=America/Chicago:20200521T160000
DTEND;TZID=America/Chicago:20200521T170000
LOCATION:Firespring
SUMMARY:Walking Group
END:VEVENT
END:VCALENDAR
