BEGIN:VCALENDAR
VERSION:2.0
PRODID:-//phil.firespring.org//NONSGML kigkonsult.se iCalcreator 2.30.10//
CALSCALE:GREGORIAN
METHOD:PUBLISH
UID:668a3280-e2b3-492d-9bba-f4c045bc98f0
X-WR-CALDESC:Honoring Kyle Walker and the late Charlene Walker\n\nAbc's 2nd
  annual Gala includes a sit-down dinner with live entertainment and inspir
 ing stories of how ABC empowers everyday people to become effective change
 -makers in the lives of vulnerable children.\n\nChampions for child welfar
 e in Lincoln County will come together to highlight the work of Honoree\, 
 Andrew Newton\, a tireless advocate\, volunteer\, and supporter for over 9
  years and someone who truly embodies the mission of our organization. \n
X-WR-RELCALID:832659e59015df210b56fe9d18603424
X-WR-TIMEZONE:America/Chicago
BEGIN:VTIMEZONE
TZID:America/Chicago
BEGIN:STANDARD
TZNAME:CST
DTSTART:20191103T020000
TZOFFSETFROM:-0500
TZOFFSETTO:-0600
RDATE:20201101T020000
RDATE:20211107T020000
END:STANDARD
BEGIN:DAYLIGHT
TZNAME:CDT
DTSTART:20200308T020000
TZOFFSETFROM:-0600
TZOFFSETTO:-0500
RDATE:20210314T020000
END:DAYLIGHT
END:VTIMEZONE
BEGIN:VEVENT
UID:d4d85071-fde8-4fbd-9fe4-c1d648073715
DTSTAMP:20260426T000525Z
DESCRIPTION:Honoring Kyle Walker and the late Charlene Walker\n\nAbc's 2nd 
 annual Gala includes a sit-down dinner with live entertainment and inspiri
 ng stories of how ABC empowers everyday people to become effective change-
 makers in the lives of vulnerable children.\n\nChampions for child welfare
  in Lincoln County will come together to highlight the work of Honoree\, A
 ndrew Newton\, a tireless advocate\, volunteer\, and supporter for over 9 
 years and someone who truly embodies the mission of our organization. \n
DTSTART;TZID=America/Chicago:20200522T190000
DTEND;TZID=America/Chicago:20200522T230000
LOCATION:Firespring Hills Country Club\, Lincoln\, Nebraska
SUMMARY:Gala
END:VEVENT
END:VCALENDAR
