BEGIN:VCALENDAR
VERSION:2.0
PRODID:-//phil.firespring.org//NONSGML kigkonsult.se iCalcreator 2.30.10//
CALSCALE:GREGORIAN
METHOD:PUBLISH
UID:ec29b1ba-8a41-4435-8324-558955472beb
X-WR-CALDESC:
X-WR-RELCALID:af538b4fcc316b25ec975296bc7b8091
X-WR-TIMEZONE:America/Chicago
BEGIN:VTIMEZONE
TZID:America/Chicago
BEGIN:STANDARD
TZNAME:CST
DTSTART:20191103T020000
TZOFFSETFROM:-0500
TZOFFSETTO:-0600
RDATE:20201101T020000
RDATE:20211107T020000
END:STANDARD
BEGIN:DAYLIGHT
TZNAME:CDT
DTSTART:20200308T020000
TZOFFSETFROM:-0600
TZOFFSETTO:-0500
RDATE:20210314T020000
END:DAYLIGHT
END:VTIMEZONE
BEGIN:VEVENT
UID:ef3697bd-8fa6-4f93-bdcb-d3a784a77048
DTSTAMP:20260426T000600Z
DESCRIPTION:
DTSTART;TZID=America/Chicago:20200526T100000
DTEND;TZID=America/Chicago:20200526T110000
LOCATION:
SUMMARY:Board Meeting
END:VEVENT
END:VCALENDAR
