BEGIN:VCALENDAR
VERSION:2.0
PRODID:-//phil.firespring.org//NONSGML kigkonsult.se iCalcreator 2.30.10//
CALSCALE:GREGORIAN
METHOD:PUBLISH
UID:e594bd56-8254-4d4f-988b-9a102c8c2a6e
X-WR-CALDESC:Please bring drinking water
X-WR-RELCALID:121b01c81cc7c5054d2b535bbfda83c3
X-WR-TIMEZONE:America/Chicago
BEGIN:VTIMEZONE
TZID:America/Chicago
BEGIN:STANDARD
TZNAME:CST
DTSTART:20191103T020000
TZOFFSETFROM:-0500
TZOFFSETTO:-0600
RDATE:20201101T020000
RDATE:20211107T020000
END:STANDARD
BEGIN:DAYLIGHT
TZNAME:CDT
DTSTART:20200308T020000
TZOFFSETFROM:-0600
TZOFFSETTO:-0500
RDATE:20210314T020000
END:DAYLIGHT
END:VTIMEZONE
BEGIN:VEVENT
UID:396f205f-1815-49ef-ad53-cb8072960bbc
DTSTAMP:20260426T000628Z
DESCRIPTION:Please bring drinking water
DTSTART;TZID=America/Chicago:20200528T160000
DTEND;TZID=America/Chicago:20200528T170000
LOCATION:Firespring
SUMMARY:Walking Group
END:VEVENT
END:VCALENDAR
