BEGIN:VCALENDAR
VERSION:2.0
PRODID:-//phil.firespring.org//NONSGML kigkonsult.se iCalcreator 2.30.10//
CALSCALE:GREGORIAN
METHOD:PUBLISH
UID:55b67c8b-40a3-461a-a8d5-4b23ba5804e3
X-WR-CALDESC:
X-WR-RELCALID:e0ed400916ea574db532c75888e6b98b
X-WR-TIMEZONE:America/Chicago
BEGIN:VTIMEZONE
TZID:America/Chicago
BEGIN:STANDARD
TZNAME:CST
DTSTART:20191103T020000
TZOFFSETFROM:-0500
TZOFFSETTO:-0600
RDATE:20201101T020000
RDATE:20211107T020000
END:STANDARD
BEGIN:DAYLIGHT
TZNAME:CDT
DTSTART:20200308T020000
TZOFFSETFROM:-0600
TZOFFSETTO:-0500
RDATE:20210314T020000
END:DAYLIGHT
END:VTIMEZONE
BEGIN:VEVENT
UID:399e33f5-fdbf-43d1-a957-1366dd274c94
DTSTAMP:20260426T000503Z
DESCRIPTION:
DTSTART;TZID=America/Chicago:20200531T150000
DTEND;TZID=America/Chicago:20200531T160000
LOCATION:
SUMMARY:Gala
END:VEVENT
END:VCALENDAR
