BEGIN:VCALENDAR
VERSION:2.0
PRODID:-//phil.firespring.org//NONSGML kigkonsult.se iCalcreator 2.30.10//
CALSCALE:GREGORIAN
METHOD:PUBLISH
UID:4e28a53e-7c4a-42a0-9780-b43418c1e1d0
X-WR-CALDESC:Please bring drinking water
X-WR-RELCALID:b7b0dd8d5db6560fb1633f7d695fe34d
X-WR-TIMEZONE:America/Chicago
BEGIN:VTIMEZONE
TZID:America/Chicago
BEGIN:STANDARD
TZNAME:CST
DTSTART:20191103T020000
TZOFFSETFROM:-0500
TZOFFSETTO:-0600
RDATE:20201101T020000
RDATE:20211107T020000
END:STANDARD
BEGIN:DAYLIGHT
TZNAME:CDT
DTSTART:20200308T020000
TZOFFSETFROM:-0600
TZOFFSETTO:-0500
RDATE:20210314T020000
END:DAYLIGHT
END:VTIMEZONE
BEGIN:VEVENT
UID:2c9d6a70-3326-4c5a-8606-bb60b11000cc
DTSTAMP:20260425T224656Z
DESCRIPTION:Please bring drinking water
DTSTART;TZID=America/Chicago:20200625T160000
DTEND;TZID=America/Chicago:20200625T170000
LOCATION:Firespring
SUMMARY:Walking Group
END:VEVENT
END:VCALENDAR
