BEGIN:VCALENDAR
VERSION:2.0
PRODID:-//phil.firespring.org//NONSGML kigkonsult.se iCalcreator 2.30.10//
CALSCALE:GREGORIAN
METHOD:PUBLISH
UID:0e498c35-8916-4586-84c1-b9032b322be8
X-WR-CALDESC:
X-WR-RELCALID:11b47338b6529ab4ce305ff493fabfe7
X-WR-TIMEZONE:America/Chicago
BEGIN:VTIMEZONE
TZID:America/Chicago
BEGIN:STANDARD
TZNAME:CST
DTSTART:20191103T020000
TZOFFSETFROM:-0500
TZOFFSETTO:-0600
RDATE:20201101T020000
RDATE:20211107T020000
END:STANDARD
BEGIN:DAYLIGHT
TZNAME:CDT
DTSTART:20200308T020000
TZOFFSETFROM:-0600
TZOFFSETTO:-0500
RDATE:20210314T020000
END:DAYLIGHT
END:VTIMEZONE
BEGIN:VEVENT
UID:7eb83499-b418-4248-be7c-6d1011c027bb
DTSTAMP:20260425T224525Z
DESCRIPTION:
DTSTART;TZID=America/Chicago:20200630T140000
DTEND;TZID=America/Chicago:20200630T150000
LOCATION:
SUMMARY:Gala
END:VEVENT
END:VCALENDAR
