BEGIN:VCALENDAR
VERSION:2.0
PRODID:-//phil.firespring.org//NONSGML kigkonsult.se iCalcreator 2.30.10//
CALSCALE:GREGORIAN
METHOD:PUBLISH
UID:7cbbb7ed-ebeb-4216-8ba9-29bb56b6c6d8
X-WR-CALDESC:
X-WR-RELCALID:80461e7e50f517325bc77a6289401f5c
X-WR-TIMEZONE:America/Chicago
BEGIN:VTIMEZONE
TZID:America/Chicago
BEGIN:STANDARD
TZNAME:CST
DTSTART:20191103T020000
TZOFFSETFROM:-0500
TZOFFSETTO:-0600
RDATE:20201101T020000
RDATE:20211107T020000
END:STANDARD
BEGIN:DAYLIGHT
TZNAME:CDT
DTSTART:20200308T020000
TZOFFSETFROM:-0600
TZOFFSETTO:-0500
RDATE:20210314T020000
END:DAYLIGHT
END:VTIMEZONE
BEGIN:VEVENT
UID:a9bcb88d-5e00-4552-9d7c-65e45d2c435d
DTSTAMP:20260425T212221Z
DESCRIPTION:
DTSTART;TZID=America/Chicago:20200701T110000
DTEND;TZID=America/Chicago:20200701T120000
LOCATION:Firespring
SUMMARY:Coming Together
END:VEVENT
END:VCALENDAR
