BEGIN:VCALENDAR
VERSION:2.0
PRODID:-//phil.firespring.org//NONSGML kigkonsult.se iCalcreator 2.30.10//
CALSCALE:GREGORIAN
METHOD:PUBLISH
UID:f7941076-8f6c-4b04-b3e9-02c8df0b0203
X-WR-CALDESC:Please bring drinking water
X-WR-RELCALID:f68808985894a6763732d9d0e64ed1db
X-WR-TIMEZONE:America/Chicago
BEGIN:VTIMEZONE
TZID:America/Chicago
BEGIN:STANDARD
TZNAME:CST
DTSTART:20191103T020000
TZOFFSETFROM:-0500
TZOFFSETTO:-0600
RDATE:20201101T020000
RDATE:20211107T020000
END:STANDARD
BEGIN:DAYLIGHT
TZNAME:CDT
DTSTART:20200308T020000
TZOFFSETFROM:-0600
TZOFFSETTO:-0500
RDATE:20210314T020000
END:DAYLIGHT
END:VTIMEZONE
BEGIN:VEVENT
UID:c29bded9-affb-46c7-a5c3-8fd117e83cb0
DTSTAMP:20260425T212221Z
DESCRIPTION:Please bring drinking water
DTSTART;TZID=America/Chicago:20200709T160000
DTEND;TZID=America/Chicago:20200709T170000
LOCATION:Firespring
SUMMARY:Walking Group
END:VEVENT
END:VCALENDAR
