BEGIN:VCALENDAR
VERSION:2.0
PRODID:-//phil.firespring.org//NONSGML kigkonsult.se iCalcreator 2.30.10//
CALSCALE:GREGORIAN
METHOD:PUBLISH
UID:4cbf5f4d-22aa-4103-8363-7ad3073c4a04
X-WR-CALDESC:Please bring drinking water
X-WR-RELCALID:8348800cf50850d404fafdfe18db8638
X-WR-TIMEZONE:America/Chicago
BEGIN:VTIMEZONE
TZID:America/Chicago
BEGIN:STANDARD
TZNAME:CST
DTSTART:20191103T020000
TZOFFSETFROM:-0500
TZOFFSETTO:-0600
RDATE:20201101T020000
RDATE:20211107T020000
END:STANDARD
BEGIN:DAYLIGHT
TZNAME:CDT
DTSTART:20200308T020000
TZOFFSETFROM:-0600
TZOFFSETTO:-0500
RDATE:20210314T020000
END:DAYLIGHT
END:VTIMEZONE
BEGIN:VEVENT
UID:7f6bb17d-109e-44f3-9f64-a2f8f24728fc
DTSTAMP:20260425T194314Z
DESCRIPTION:Please bring drinking water
DTSTART;TZID=America/Chicago:20200820T160000
DTEND;TZID=America/Chicago:20200820T170000
LOCATION:Firespring
SUMMARY:Walking Group
END:VEVENT
END:VCALENDAR
