BEGIN:VCALENDAR
VERSION:2.0
PRODID:-//phil.firespring.org//NONSGML kigkonsult.se iCalcreator 2.30.10//
CALSCALE:GREGORIAN
METHOD:PUBLISH
UID:84c8b6eb-2490-4fb8-bb84-241385350724
X-WR-CALDESC:
X-WR-RELCALID:cf6ca489fc8e57feaf35266cdb06b871
X-WR-TIMEZONE:America/Chicago
BEGIN:VTIMEZONE
TZID:America/Chicago
BEGIN:STANDARD
TZNAME:CST
DTSTART:20191103T020000
TZOFFSETFROM:-0500
TZOFFSETTO:-0600
RDATE:20201101T020000
RDATE:20211107T020000
END:STANDARD
BEGIN:DAYLIGHT
TZNAME:CDT
DTSTART:20200308T020000
TZOFFSETFROM:-0600
TZOFFSETTO:-0500
RDATE:20210314T020000
END:DAYLIGHT
END:VTIMEZONE
BEGIN:VEVENT
UID:99445905-e1c2-458a-977a-b4a920e62ac7
DTSTAMP:20260425T193044Z
DESCRIPTION:
DTSTART;TZID=America/Chicago:20200831T143000
DTEND;TZID=America/Chicago:20200831T153000
LOCATION:
SUMMARY:Gala
END:VEVENT
END:VCALENDAR
