BEGIN:VCALENDAR
VERSION:2.0
PRODID:-//phil.firespring.org//NONSGML kigkonsult.se iCalcreator 2.30.10//
CALSCALE:GREGORIAN
METHOD:PUBLISH
UID:5532b473-8367-48d3-89f1-6ffd2d2aba30
X-WR-CALDESC:Please bring drinking water
X-WR-RELCALID:844c9a02696b84c87d88984697b92254
X-WR-TIMEZONE:America/Chicago
BEGIN:VTIMEZONE
TZID:America/Chicago
BEGIN:STANDARD
TZNAME:CST
DTSTART:20191103T020000
TZOFFSETFROM:-0500
TZOFFSETTO:-0600
RDATE:20201101T020000
RDATE:20211107T020000
END:STANDARD
BEGIN:DAYLIGHT
TZNAME:CDT
DTSTART:20200308T020000
TZOFFSETFROM:-0600
TZOFFSETTO:-0500
RDATE:20210314T020000
END:DAYLIGHT
END:VTIMEZONE
BEGIN:VEVENT
UID:e72bc5ec-996a-45d4-842a-0115ebe31ee0
DTSTAMP:20260425T183252Z
DESCRIPTION:Please bring drinking water
DTSTART;TZID=America/Chicago:20200910T160000
DTEND;TZID=America/Chicago:20200910T170000
LOCATION:Firespring
SUMMARY:Walking Group
END:VEVENT
END:VCALENDAR
