BEGIN:VCALENDAR
VERSION:2.0
PRODID:-//phil.firespring.org//NONSGML kigkonsult.se iCalcreator 2.30.10//
CALSCALE:GREGORIAN
METHOD:PUBLISH
UID:ec5a5ea3-98ef-4f65-9cc5-3dbecb996914
X-WR-CALDESC:Please bring drinking water
X-WR-RELCALID:81821e0a6b4e28ce9eeeb6e0b868d62d
X-WR-TIMEZONE:America/Chicago
BEGIN:VTIMEZONE
TZID:America/Chicago
BEGIN:STANDARD
TZNAME:CST
DTSTART:20201101T020000
TZOFFSETFROM:-0500
TZOFFSETTO:-0600
RDATE:20211107T020000
END:STANDARD
BEGIN:DAYLIGHT
TZNAME:CDT
DTSTART:20200308T020000
TZOFFSETFROM:-0600
TZOFFSETTO:-0500
RDATE:20210314T020000
RDATE:20220313T020000
END:DAYLIGHT
END:VTIMEZONE
BEGIN:VEVENT
UID:0f98c09d-8495-44de-8a6c-fb2788a9a83b
DTSTAMP:20260425T154622Z
DESCRIPTION:Please bring drinking water
DTSTART;TZID=America/Chicago:20201112T160000
DTEND;TZID=America/Chicago:20201112T170000
LOCATION:Firespring
SUMMARY:Walking Group
END:VEVENT
END:VCALENDAR
