BEGIN:VCALENDAR
VERSION:2.0
PRODID:-//phil.firespring.org//NONSGML kigkonsult.se iCalcreator 2.30.10//
CALSCALE:GREGORIAN
METHOD:PUBLISH
UID:16a213af-7bf0-4915-be17-76b1f7e5a9c0
X-WR-CALDESC:
X-WR-RELCALID:2d15cb92494bdd0446278be6f44c0736
X-WR-TIMEZONE:America/Chicago
BEGIN:VTIMEZONE
TZID:America/Chicago
BEGIN:STANDARD
TZNAME:CST
DTSTART:20201101T020000
TZOFFSETFROM:-0500
TZOFFSETTO:-0600
RDATE:20211107T020000
END:STANDARD
BEGIN:DAYLIGHT
TZNAME:CDT
DTSTART:20200308T020000
TZOFFSETFROM:-0600
TZOFFSETTO:-0500
RDATE:20210314T020000
RDATE:20220313T020000
END:DAYLIGHT
END:VTIMEZONE
BEGIN:VEVENT
UID:f3f8c3e1-eaec-4812-9f5f-b512103f71a7
DTSTAMP:20260425T154856Z
DESCRIPTION:
DTSTART;TZID=America/Chicago:20201119T133000
DTEND;TZID=America/Chicago:20201119T143000
LOCATION:
SUMMARY:Monthly Lunch
END:VEVENT
END:VCALENDAR
