BEGIN:VCALENDAR
VERSION:2.0
PRODID:-//phil.firespring.org//NONSGML kigkonsult.se iCalcreator 2.30.10//
CALSCALE:GREGORIAN
METHOD:PUBLISH
UID:32d4fe15-08d5-4269-a8a0-cd5decb474f9
X-WR-CALDESC:Please bring drinking water
X-WR-RELCALID:713378fa2c4aa5699b97fbeeb1bfb0b4
X-WR-TIMEZONE:America/Chicago
BEGIN:VTIMEZONE
TZID:America/Chicago
BEGIN:STANDARD
TZNAME:CST
DTSTART:20201101T020000
TZOFFSETFROM:-0500
TZOFFSETTO:-0600
RDATE:20211107T020000
END:STANDARD
BEGIN:DAYLIGHT
TZNAME:CDT
DTSTART:20200308T020000
TZOFFSETFROM:-0600
TZOFFSETTO:-0500
RDATE:20210314T020000
RDATE:20220313T020000
END:DAYLIGHT
END:VTIMEZONE
BEGIN:VEVENT
UID:897dfc52-9592-4719-bdd0-95dee496c7df
DTSTAMP:20260425T154729Z
DESCRIPTION:Please bring drinking water
DTSTART;TZID=America/Chicago:20201126T160000
DTEND;TZID=America/Chicago:20201126T170000
LOCATION:Firespring
SUMMARY:Walking Group
END:VEVENT
END:VCALENDAR
