BEGIN:VCALENDAR
VERSION:2.0
PRODID:-//phil.firespring.org//NONSGML kigkonsult.se iCalcreator 2.30.10//
CALSCALE:GREGORIAN
METHOD:PUBLISH
UID:73bd1e2e-8e92-4ba7-8fa4-27fbbc30197f
X-WR-CALDESC:Please bring drinking water
X-WR-RELCALID:3aa8a8ec2447f16448e8c55b9a80946e
X-WR-TIMEZONE:America/Chicago
BEGIN:VTIMEZONE
TZID:America/Chicago
BEGIN:STANDARD
TZNAME:CST
DTSTART:20201101T020000
TZOFFSETFROM:-0500
TZOFFSETTO:-0600
RDATE:20211107T020000
END:STANDARD
BEGIN:DAYLIGHT
TZNAME:CDT
DTSTART:20200308T020000
TZOFFSETFROM:-0600
TZOFFSETTO:-0500
RDATE:20210314T020000
RDATE:20220313T020000
END:DAYLIGHT
END:VTIMEZONE
BEGIN:VEVENT
UID:33d4ed9c-f1d9-4810-aaf4-6088cd324661
DTSTAMP:20260425T142549Z
DESCRIPTION:Please bring drinking water
DTSTART;TZID=America/Chicago:20201231T160000
DTEND;TZID=America/Chicago:20201231T170000
LOCATION:Firespring
SUMMARY:Walking Group
END:VEVENT
END:VCALENDAR
