BEGIN:VCALENDAR
VERSION:2.0
PRODID:-//phil.firespring.org//NONSGML kigkonsult.se iCalcreator 2.30.10//
CALSCALE:GREGORIAN
METHOD:PUBLISH
UID:1f6f5149-81e3-4321-af4a-eb2e75b91be1
X-WR-CALDESC:Please bring drinking water
X-WR-RELCALID:b92602c78c0bd18b970d8327c1631d51
X-WR-TIMEZONE:America/Chicago
BEGIN:VTIMEZONE
TZID:America/Chicago
BEGIN:STANDARD
TZNAME:CST
DTSTART:20201101T020000
TZOFFSETFROM:-0500
TZOFFSETTO:-0600
RDATE:20211107T020000
END:STANDARD
BEGIN:DAYLIGHT
TZNAME:CDT
DTSTART:20200308T020000
TZOFFSETFROM:-0600
TZOFFSETTO:-0500
RDATE:20210314T020000
RDATE:20220313T020000
END:DAYLIGHT
END:VTIMEZONE
BEGIN:VEVENT
UID:87472cf3-e23b-43cf-af08-86fa57fa3e5e
DTSTAMP:20260425T130426Z
DESCRIPTION:Please bring drinking water
DTSTART;TZID=America/Chicago:20210114T160000
DTEND;TZID=America/Chicago:20210114T170000
LOCATION:Firespring
SUMMARY:Walking Group
END:VEVENT
END:VCALENDAR
