BEGIN:VCALENDAR
VERSION:2.0
PRODID:-//phil.firespring.org//NONSGML kigkonsult.se iCalcreator 2.30.10//
CALSCALE:GREGORIAN
METHOD:PUBLISH
UID:266b7b93-aec0-4089-badd-dce1b27a7303
X-WR-CALDESC:Please bring drinking water
X-WR-RELCALID:3a9ad41e4e3e9cf8c633b75f91197692
X-WR-TIMEZONE:America/Chicago
BEGIN:VTIMEZONE
TZID:America/Chicago
BEGIN:STANDARD
TZNAME:CST
DTSTART:20201101T020000
TZOFFSETFROM:-0500
TZOFFSETTO:-0600
RDATE:20211107T020000
END:STANDARD
BEGIN:DAYLIGHT
TZNAME:CDT
DTSTART:20200308T020000
TZOFFSETFROM:-0600
TZOFFSETTO:-0500
RDATE:20210314T020000
RDATE:20220313T020000
END:DAYLIGHT
END:VTIMEZONE
BEGIN:VEVENT
UID:f246499a-d346-4b7c-a8a9-59eaa698fc70
DTSTAMP:20260425T130258Z
DESCRIPTION:Please bring drinking water
DTSTART;TZID=America/Chicago:20210128T160000
DTEND;TZID=America/Chicago:20210128T170000
LOCATION:Firespring
SUMMARY:Walking Group
END:VEVENT
END:VCALENDAR
