BEGIN:VCALENDAR
VERSION:2.0
PRODID:-//phil.firespring.org//NONSGML kigkonsult.se iCalcreator 2.30.10//
CALSCALE:GREGORIAN
METHOD:PUBLISH
UID:9da1b229-c3eb-43ab-abb3-bed926afd237
X-WR-CALDESC:
X-WR-RELCALID:aac9ee9138c9da2e830605719daa4a3c
X-WR-TIMEZONE:America/Chicago
BEGIN:VTIMEZONE
TZID:America/Chicago
BEGIN:STANDARD
TZNAME:CST
DTSTART:20201101T020000
TZOFFSETFROM:-0500
TZOFFSETTO:-0600
RDATE:20211107T020000
END:STANDARD
BEGIN:DAYLIGHT
TZNAME:CDT
DTSTART:20200308T020000
TZOFFSETFROM:-0600
TZOFFSETTO:-0500
RDATE:20210314T020000
RDATE:20220313T020000
END:DAYLIGHT
END:VTIMEZONE
BEGIN:VEVENT
UID:dd00df02-3571-4dfb-b83d-4da215349d6f
DTSTAMP:20260425T113200Z
DESCRIPTION:
DTSTART;TZID=America/Chicago:20210216T150000
DTEND;TZID=America/Chicago:20210216T160000
LOCATION:
SUMMARY:Support Group
END:VEVENT
END:VCALENDAR
