BEGIN:VCALENDAR
VERSION:2.0
PRODID:-//phil.firespring.org//NONSGML kigkonsult.se iCalcreator 2.30.10//
CALSCALE:GREGORIAN
METHOD:PUBLISH
UID:a2eab955-bebe-4039-8f93-09074cbbbc48
X-WR-CALDESC:
X-WR-RELCALID:4334ab981ed672efaac3701d4b53624c
X-WR-TIMEZONE:America/Chicago
BEGIN:VTIMEZONE
TZID:America/Chicago
BEGIN:STANDARD
TZNAME:CST
DTSTART:20201101T020000
TZOFFSETFROM:-0500
TZOFFSETTO:-0600
RDATE:20211107T020000
END:STANDARD
BEGIN:DAYLIGHT
TZNAME:CDT
DTSTART:20200308T020000
TZOFFSETFROM:-0600
TZOFFSETTO:-0500
RDATE:20210314T020000
RDATE:20220313T020000
END:DAYLIGHT
END:VTIMEZONE
BEGIN:VEVENT
UID:ea595127-ffff-4b2e-a421-46811f238455
DTSTAMP:20260425T113544Z
DESCRIPTION:
DTSTART;TZID=America/Chicago:20210217T103000
DTEND;TZID=America/Chicago:20210217T113000
LOCATION:
SUMMARY:Medical Training
END:VEVENT
END:VCALENDAR
