BEGIN:VCALENDAR
VERSION:2.0
PRODID:-//phil.firespring.org//NONSGML kigkonsult.se iCalcreator 2.30.10//
CALSCALE:GREGORIAN
METHOD:PUBLISH
UID:89a9fd71-1a37-4b81-acd8-62297b480b49
X-WR-CALDESC:
X-WR-RELCALID:aebc7bdbb5129e2ba76adb872245cb41
X-WR-TIMEZONE:America/Chicago
BEGIN:VTIMEZONE
TZID:America/Chicago
BEGIN:STANDARD
TZNAME:CST
DTSTART:20201101T020000
TZOFFSETFROM:-0500
TZOFFSETTO:-0600
RDATE:20211107T020000
END:STANDARD
BEGIN:DAYLIGHT
TZNAME:CDT
DTSTART:20200308T020000
TZOFFSETFROM:-0600
TZOFFSETTO:-0500
RDATE:20210314T020000
RDATE:20220313T020000
END:DAYLIGHT
END:VTIMEZONE
BEGIN:VEVENT
UID:994db81b-a365-4ebb-b766-9817ef82b576
DTSTAMP:20260425T113850Z
DESCRIPTION:
DTSTART;TZID=America/Chicago:20210224T163000
DTEND;TZID=America/Chicago:20210224T173000
LOCATION:
SUMMARY:Annual Scrabble Match
END:VEVENT
END:VCALENDAR
