BEGIN:VCALENDAR
VERSION:2.0
PRODID:-//phil.firespring.org//NONSGML kigkonsult.se iCalcreator 2.30.10//
CALSCALE:GREGORIAN
METHOD:PUBLISH
UID:6c9ddd38-3279-407c-a703-5cb6e4697d2c
X-WR-CALDESC:
X-WR-RELCALID:fd655d5afa2bddb5b2ca09c15bc75045
X-WR-TIMEZONE:America/Chicago
BEGIN:VTIMEZONE
TZID:America/Chicago
BEGIN:STANDARD
TZNAME:CST
DTSTART:20201101T020000
TZOFFSETFROM:-0500
TZOFFSETTO:-0600
RDATE:20211107T020000
END:STANDARD
BEGIN:DAYLIGHT
TZNAME:CDT
DTSTART:20210314T020000
TZOFFSETFROM:-0600
TZOFFSETTO:-0500
RDATE:20220313T020000
END:DAYLIGHT
END:VTIMEZONE
BEGIN:VEVENT
UID:bf3c4c9d-e516-43dd-9c69-f570b6878a5c
DTSTAMP:20260423T110024Z
DESCRIPTION:
DTSTART;TZID=America/Chicago:20210331T133000
DTEND;TZID=America/Chicago:20210331T143000
LOCATION:
SUMMARY:Christmas in March
END:VEVENT
END:VCALENDAR
