BEGIN:VCALENDAR
VERSION:2.0
PRODID:-//phil.firespring.org//NONSGML kigkonsult.se iCalcreator 2.30.10//
CALSCALE:GREGORIAN
METHOD:PUBLISH
UID:3a984183-0c34-4583-b856-d76cf5da7164
X-WR-CALDESC:Please bring drinking water
X-WR-RELCALID:f2f2db47a03d4d8373c29381836e11a7
X-WR-TIMEZONE:America/Chicago
BEGIN:VTIMEZONE
TZID:America/Chicago
BEGIN:STANDARD
TZNAME:CST
DTSTART:20201101T020000
TZOFFSETFROM:-0500
TZOFFSETTO:-0600
RDATE:20211107T020000
END:STANDARD
BEGIN:DAYLIGHT
TZNAME:CDT
DTSTART:20210314T020000
TZOFFSETFROM:-0600
TZOFFSETTO:-0500
RDATE:20220313T020000
END:DAYLIGHT
END:VTIMEZONE
BEGIN:VEVENT
UID:6ea595c4-8961-481c-84a0-56c1aebe510d
DTSTAMP:20260423T094251Z
DESCRIPTION:Please bring drinking water
DTSTART;TZID=America/Chicago:20210401T160000
DTEND;TZID=America/Chicago:20210401T170000
LOCATION:Firespring
SUMMARY:Walking Group
END:VEVENT
END:VCALENDAR
