BEGIN:VCALENDAR
VERSION:2.0
PRODID:-//phil.firespring.org//NONSGML kigkonsult.se iCalcreator 2.30.10//
CALSCALE:GREGORIAN
METHOD:PUBLISH
UID:e5ba9c08-084c-4cc2-9584-89c656c49b6b
X-WR-CALDESC:Please bring drinking water
X-WR-RELCALID:9307469456613611137c9e77e122151e
X-WR-TIMEZONE:America/Chicago
BEGIN:VTIMEZONE
TZID:America/Chicago
BEGIN:STANDARD
TZNAME:CST
DTSTART:20201101T020000
TZOFFSETFROM:-0500
TZOFFSETTO:-0600
RDATE:20211107T020000
END:STANDARD
BEGIN:DAYLIGHT
TZNAME:CDT
DTSTART:20210314T020000
TZOFFSETFROM:-0600
TZOFFSETTO:-0500
RDATE:20220313T020000
END:DAYLIGHT
END:VTIMEZONE
BEGIN:VEVENT
UID:55ff88a1-d835-43a8-9e5b-777b890b5d68
DTSTAMP:20260423T094251Z
DESCRIPTION:Please bring drinking water
DTSTART;TZID=America/Chicago:20210408T160000
DTEND;TZID=America/Chicago:20210408T170000
LOCATION:Firespring
SUMMARY:Walking Group
END:VEVENT
END:VCALENDAR
