BEGIN:VCALENDAR
VERSION:2.0
PRODID:-//phil.firespring.org//NONSGML kigkonsult.se iCalcreator 2.30.10//
CALSCALE:GREGORIAN
METHOD:PUBLISH
UID:a9e3351c-4123-4891-bdd5-5ab39c30fd48
X-WR-CALDESC:Please bring drinking water
X-WR-RELCALID:541e8d2496ec1c16ab458d3f55842451
X-WR-TIMEZONE:America/Chicago
BEGIN:VTIMEZONE
TZID:America/Chicago
BEGIN:STANDARD
TZNAME:CST
DTSTART:20201101T020000
TZOFFSETFROM:-0500
TZOFFSETTO:-0600
RDATE:20211107T020000
END:STANDARD
BEGIN:DAYLIGHT
TZNAME:CDT
DTSTART:20210314T020000
TZOFFSETFROM:-0600
TZOFFSETTO:-0500
RDATE:20220313T020000
END:DAYLIGHT
END:VTIMEZONE
BEGIN:VEVENT
UID:defbc5c5-6db7-4204-9988-b1bb866656cc
DTSTAMP:20260423T094257Z
DESCRIPTION:Please bring drinking water
DTSTART;TZID=America/Chicago:20210415T160000
DTEND;TZID=America/Chicago:20210415T170000
LOCATION:Firespring
SUMMARY:Walking Group
END:VEVENT
END:VCALENDAR
