BEGIN:VCALENDAR
VERSION:2.0
PRODID:-//phil.firespring.org//NONSGML kigkonsult.se iCalcreator 2.30.10//
CALSCALE:GREGORIAN
METHOD:PUBLISH
UID:5cb592c3-50c0-4461-af1e-be22ea1b1176
X-WR-CALDESC:Please bring drinking water
X-WR-RELCALID:e3b4b61a1c9b92293313fa5c3e839d12
X-WR-TIMEZONE:America/Chicago
BEGIN:VTIMEZONE
TZID:America/Chicago
BEGIN:STANDARD
TZNAME:CST
DTSTART:20201101T020000
TZOFFSETFROM:-0500
TZOFFSETTO:-0600
RDATE:20211107T020000
END:STANDARD
BEGIN:DAYLIGHT
TZNAME:CDT
DTSTART:20210314T020000
TZOFFSETFROM:-0600
TZOFFSETTO:-0500
RDATE:20220313T020000
END:DAYLIGHT
END:VTIMEZONE
BEGIN:VEVENT
UID:0bfa1be8-09bf-4dbb-b996-be604c16c9e2
DTSTAMP:20260423T094313Z
DESCRIPTION:Please bring drinking water
DTSTART;TZID=America/Chicago:20210422T160000
DTEND;TZID=America/Chicago:20210422T170000
LOCATION:Firespring
SUMMARY:Walking Group
END:VEVENT
END:VCALENDAR
