BEGIN:VCALENDAR
VERSION:2.0
PRODID:-//phil.firespring.org//NONSGML kigkonsult.se iCalcreator 2.30.10//
CALSCALE:GREGORIAN
METHOD:PUBLISH
UID:683b1238-4908-49dd-8142-0d032c3a394c
X-WR-CALDESC:
X-WR-RELCALID:e2d16adc43c4375a1ad03639f8cbd2ba
X-WR-TIMEZONE:America/Chicago
BEGIN:VTIMEZONE
TZID:America/Chicago
BEGIN:STANDARD
TZNAME:CST
DTSTART:20201101T020000
TZOFFSETFROM:-0500
TZOFFSETTO:-0600
RDATE:20211107T020000
END:STANDARD
BEGIN:DAYLIGHT
TZNAME:CDT
DTSTART:20210314T020000
TZOFFSETFROM:-0600
TZOFFSETTO:-0500
RDATE:20220313T020000
END:DAYLIGHT
END:VTIMEZONE
BEGIN:VEVENT
UID:d653a8cb-ae63-41ab-9cb4-203a8ddd8bc4
DTSTAMP:20260423T082952Z
DESCRIPTION:
DTSTART;TZID=America/Chicago:20210506T143000
DTEND;TZID=America/Chicago:20210506T153000
LOCATION:
SUMMARY:Harvest Dinner
END:VEVENT
END:VCALENDAR
