BEGIN:VCALENDAR
VERSION:2.0
PRODID:-//phil.firespring.org//NONSGML kigkonsult.se iCalcreator 2.30.10//
CALSCALE:GREGORIAN
METHOD:PUBLISH
UID:2b474068-a262-4400-b8ec-df93974b69dd
X-WR-CALDESC:
X-WR-RELCALID:03dda3edadaf368fad761ff2791360ba
X-WR-TIMEZONE:America/Chicago
BEGIN:VTIMEZONE
TZID:America/Chicago
BEGIN:STANDARD
TZNAME:CST
DTSTART:20201101T020000
TZOFFSETFROM:-0500
TZOFFSETTO:-0600
RDATE:20211107T020000
RDATE:20221106T020000
END:STANDARD
BEGIN:DAYLIGHT
TZNAME:CDT
DTSTART:20210314T020000
TZOFFSETFROM:-0600
TZOFFSETTO:-0500
RDATE:20220313T020000
END:DAYLIGHT
END:VTIMEZONE
BEGIN:VEVENT
UID:001f8602-0fb1-4163-997a-09eae355690b
DTSTAMP:20260423T083054Z
DESCRIPTION:
DTSTART;TZID=America/Chicago:20210513T143000
DTEND;TZID=America/Chicago:20210513T153000
LOCATION:
SUMMARY:Families in transition course
END:VEVENT
END:VCALENDAR
