BEGIN:VCALENDAR
VERSION:2.0
PRODID:-//phil.firespring.org//NONSGML kigkonsult.se iCalcreator 2.30.10//
CALSCALE:GREGORIAN
METHOD:PUBLISH
UID:6b8f5cd9-f142-44fd-bfe9-f581e86145b8
X-WR-CALDESC:
X-WR-RELCALID:690038eaeeddaf0768574f1543612eb0
X-WR-TIMEZONE:America/Chicago
BEGIN:VTIMEZONE
TZID:America/Chicago
BEGIN:STANDARD
TZNAME:CST
DTSTART:20201101T020000
TZOFFSETFROM:-0500
TZOFFSETTO:-0600
RDATE:20211107T020000
RDATE:20221106T020000
END:STANDARD
BEGIN:DAYLIGHT
TZNAME:CDT
DTSTART:20210314T020000
TZOFFSETFROM:-0600
TZOFFSETTO:-0500
RDATE:20220313T020000
END:DAYLIGHT
END:VTIMEZONE
BEGIN:VEVENT
UID:03df6e22-189a-404e-9bf5-c4dac73f8ec2
DTSTAMP:20260423T082334Z
DESCRIPTION:
DTSTART;TZID=America/Chicago:20210518T110000
DTEND;TZID=America/Chicago:20210518T120000
LOCATION:
SUMMARY:Annual Event
END:VEVENT
END:VCALENDAR
