BEGIN:VCALENDAR
VERSION:2.0
PRODID:-//phil.firespring.org//NONSGML kigkonsult.se iCalcreator 2.30.10//
CALSCALE:GREGORIAN
METHOD:PUBLISH
UID:5ab357a0-9e56-4d44-a91e-5ad186d688a9
X-WR-CALDESC:
X-WR-RELCALID:bf46723b8a70be36d1911d384cffaa76
X-WR-TIMEZONE:America/Chicago
BEGIN:VTIMEZONE
TZID:America/Chicago
BEGIN:STANDARD
TZNAME:CST
DTSTART:20201101T020000
TZOFFSETFROM:-0500
TZOFFSETTO:-0600
RDATE:20211107T020000
RDATE:20221106T020000
END:STANDARD
BEGIN:DAYLIGHT
TZNAME:CDT
DTSTART:20210314T020000
TZOFFSETFROM:-0600
TZOFFSETTO:-0500
RDATE:20220313T020000
END:DAYLIGHT
END:VTIMEZONE
BEGIN:VEVENT
UID:dffd827d-f944-455d-a5c7-f3bbb6a6ed63
DTSTAMP:20260423T082027Z
DESCRIPTION:
DTSTART;TZID=America/Chicago:20210531T140000
DTEND;TZID=America/Chicago:20210531T150000
LOCATION:
SUMMARY:Golf Event
END:VEVENT
END:VCALENDAR
