BEGIN:VCALENDAR
VERSION:2.0
PRODID:-//phil.firespring.org//NONSGML kigkonsult.se iCalcreator 2.30.10//
CALSCALE:GREGORIAN
METHOD:PUBLISH
UID:7cd5ac46-bb2b-44df-9cb0-a5926ef22e8b
X-WR-CALDESC:Please bring drinking water
X-WR-RELCALID:59a949d57545cafcd74b526fe9095f06
X-WR-TIMEZONE:America/Chicago
BEGIN:VTIMEZONE
TZID:America/Chicago
BEGIN:STANDARD
TZNAME:CST
DTSTART:20201101T020000
TZOFFSETFROM:-0500
TZOFFSETTO:-0600
RDATE:20211107T020000
RDATE:20221106T020000
END:STANDARD
BEGIN:DAYLIGHT
TZNAME:CDT
DTSTART:20210314T020000
TZOFFSETFROM:-0600
TZOFFSETTO:-0500
RDATE:20220313T020000
END:DAYLIGHT
END:VTIMEZONE
BEGIN:VEVENT
UID:68e0af28-d05d-4a49-b7f4-fb18eb625728
DTSTAMP:20260423T065814Z
DESCRIPTION:Please bring drinking water
DTSTART;TZID=America/Chicago:20210610T160000
DTEND;TZID=America/Chicago:20210610T170000
LOCATION:Firespring
SUMMARY:Walking Group
END:VEVENT
END:VCALENDAR
