BEGIN:VCALENDAR
VERSION:2.0
PRODID:-//phil.firespring.org//NONSGML kigkonsult.se iCalcreator 2.30.10//
CALSCALE:GREGORIAN
METHOD:PUBLISH
UID:7e00d7e9-2efe-4bd2-8611-8d42d7d2478e
X-WR-CALDESC:
X-WR-RELCALID:71667439314f6e02190db271476ee83a
X-WR-TIMEZONE:America/Chicago
BEGIN:VTIMEZONE
TZID:America/Chicago
BEGIN:STANDARD
TZNAME:CST
DTSTART:20201101T020000
TZOFFSETFROM:-0500
TZOFFSETTO:-0600
RDATE:20211107T020000
RDATE:20221106T020000
END:STANDARD
BEGIN:DAYLIGHT
TZNAME:CDT
DTSTART:20210314T020000
TZOFFSETFROM:-0600
TZOFFSETTO:-0500
RDATE:20220313T020000
END:DAYLIGHT
END:VTIMEZONE
BEGIN:VEVENT
UID:52780766-aa19-4c94-9665-584dfaef1839
DTSTAMP:20260423T065613Z
DESCRIPTION:
DTSTART;TZID=America/Chicago:20210622T103000
DTEND;TZID=America/Chicago:20210622T113000
LOCATION:
SUMMARY:Test
END:VEVENT
END:VCALENDAR
