BEGIN:VCALENDAR
VERSION:2.0
PRODID:-//phil.firespring.org//NONSGML kigkonsult.se iCalcreator 2.30.10//
CALSCALE:GREGORIAN
METHOD:PUBLISH
UID:68b30762-65ac-4042-be0a-57e0602e9902
X-WR-CALDESC:Please bring drinking water
X-WR-RELCALID:b4bbbe8d5436641357bdf27d04967f00
X-WR-TIMEZONE:America/Chicago
BEGIN:VTIMEZONE
TZID:America/Chicago
BEGIN:STANDARD
TZNAME:CST
DTSTART:20201101T020000
TZOFFSETFROM:-0500
TZOFFSETTO:-0600
RDATE:20211107T020000
RDATE:20221106T020000
END:STANDARD
BEGIN:DAYLIGHT
TZNAME:CDT
DTSTART:20210314T020000
TZOFFSETFROM:-0600
TZOFFSETTO:-0500
RDATE:20220313T020000
END:DAYLIGHT
END:VTIMEZONE
BEGIN:VEVENT
UID:f89cee60-188f-4fd2-8621-9044a58fa7d0
DTSTAMP:20260423T065714Z
DESCRIPTION:Please bring drinking water
DTSTART;TZID=America/Chicago:20210624T160000
DTEND;TZID=America/Chicago:20210624T170000
LOCATION:Firespring
SUMMARY:Walking Group
END:VEVENT
END:VCALENDAR
