BEGIN:VCALENDAR
VERSION:2.0
PRODID:-//phil.firespring.org//NONSGML kigkonsult.se iCalcreator 2.30.10//
CALSCALE:GREGORIAN
METHOD:PUBLISH
UID:3b4852f9-6abd-4e87-b09d-37b9c2537dbf
X-WR-CALDESC:
X-WR-RELCALID:ba6464a1744ae0d07f1a9959c59cacc3
X-WR-TIMEZONE:America/Chicago
BEGIN:VTIMEZONE
TZID:America/Chicago
BEGIN:STANDARD
TZNAME:CST
DTSTART:20201101T020000
TZOFFSETFROM:-0500
TZOFFSETTO:-0600
RDATE:20211107T020000
RDATE:20221106T020000
END:STANDARD
BEGIN:DAYLIGHT
TZNAME:CDT
DTSTART:20210314T020000
TZOFFSETFROM:-0600
TZOFFSETTO:-0500
RDATE:20220313T020000
END:DAYLIGHT
END:VTIMEZONE
BEGIN:VEVENT
UID:05391a03-6e4e-4bad-b8dd-6e565576d016
DTSTAMP:20260423T065614Z
DESCRIPTION:
DTSTART;TZID=America/Chicago:20210628T180000
DTEND;TZID=America/Chicago:20210628T190000
LOCATION:
SUMMARY:Conference
END:VEVENT
END:VCALENDAR
