BEGIN:VCALENDAR
VERSION:2.0
PRODID:-//phil.firespring.org//NONSGML kigkonsult.se iCalcreator 2.30.10//
CALSCALE:GREGORIAN
METHOD:PUBLISH
UID:ef6d3452-81b5-46d7-8119-edc963d1aa66
X-WR-CALDESC:
X-WR-RELCALID:bd4bc786580ab31b9a39f52f7da07803
X-WR-TIMEZONE:America/Chicago
BEGIN:VTIMEZONE
TZID:America/Chicago
BEGIN:STANDARD
TZNAME:CST
DTSTART:20201101T020000
TZOFFSETFROM:-0500
TZOFFSETTO:-0600
RDATE:20211107T020000
RDATE:20221106T020000
END:STANDARD
BEGIN:DAYLIGHT
TZNAME:CDT
DTSTART:20210314T020000
TZOFFSETFROM:-0600
TZOFFSETTO:-0500
RDATE:20220313T020000
END:DAYLIGHT
END:VTIMEZONE
BEGIN:VEVENT
UID:eddb6198-8297-4338-8a3a-7896f48c67e9
DTSTAMP:20260423T065642Z
DESCRIPTION:
DTSTART;TZID=America/Chicago:20210630T110000
DTEND;TZID=America/Chicago:20210630T120000
LOCATION:
SUMMARY:5K Fun Run
END:VEVENT
END:VCALENDAR
