BEGIN:VCALENDAR
VERSION:2.0
PRODID:-//phil.firespring.org//NONSGML kigkonsult.se iCalcreator 2.30.10//
CALSCALE:GREGORIAN
METHOD:PUBLISH
UID:bf1767b1-605b-4af1-b0e6-2a66cddc57b9
X-WR-CALDESC:
X-WR-RELCALID:abc48def08fce0968da2be57fbcd6c8a
X-WR-TIMEZONE:America/Chicago
BEGIN:VTIMEZONE
TZID:America/Chicago
BEGIN:STANDARD
TZNAME:CST
DTSTART:20201101T020000
TZOFFSETFROM:-0500
TZOFFSETTO:-0600
RDATE:20211107T020000
RDATE:20221106T020000
END:STANDARD
BEGIN:DAYLIGHT
TZNAME:CDT
DTSTART:20210314T020000
TZOFFSETFROM:-0600
TZOFFSETTO:-0500
RDATE:20220313T020000
END:DAYLIGHT
END:VTIMEZONE
BEGIN:VEVENT
UID:511249d6-2219-4f5a-a0cc-4521966d3582
DTSTAMP:20260423T065613Z
DESCRIPTION:
DTSTART;TZID=America/Chicago:20210630T150000
DTEND;TZID=America/Chicago:20210630T160000
LOCATION:
SUMMARY:Golf Event
END:VEVENT
END:VCALENDAR
