BEGIN:VCALENDAR
VERSION:2.0
PRODID:-//phil.firespring.org//NONSGML kigkonsult.se iCalcreator 2.30.10//
CALSCALE:GREGORIAN
METHOD:PUBLISH
UID:e3ad3845-192c-476c-9f60-0571a1f4a6cc
X-WR-CALDESC:Please bring drinking water
X-WR-RELCALID:ed1b9cce9486f94593102ac6063a5717
X-WR-TIMEZONE:America/Chicago
BEGIN:VTIMEZONE
TZID:America/Chicago
BEGIN:STANDARD
TZNAME:CST
DTSTART:20201101T020000
TZOFFSETFROM:-0500
TZOFFSETTO:-0600
RDATE:20211107T020000
RDATE:20221106T020000
END:STANDARD
BEGIN:DAYLIGHT
TZNAME:CDT
DTSTART:20210314T020000
TZOFFSETFROM:-0600
TZOFFSETTO:-0500
RDATE:20220313T020000
END:DAYLIGHT
END:VTIMEZONE
BEGIN:VEVENT
UID:5883edd2-9bac-4839-9734-8d506269eac1
DTSTAMP:20260423T053920Z
DESCRIPTION:Please bring drinking water
DTSTART;TZID=America/Chicago:20210701T160000
DTEND;TZID=America/Chicago:20210701T170000
LOCATION:Firespring
SUMMARY:Walking Group
END:VEVENT
END:VCALENDAR
