BEGIN:VCALENDAR
VERSION:2.0
PRODID:-//phil.firespring.org//NONSGML kigkonsult.se iCalcreator 2.30.10//
CALSCALE:GREGORIAN
METHOD:PUBLISH
UID:db358f00-2a95-418f-95f7-0de8667d008d
X-WR-CALDESC:Please bring drinking water
X-WR-RELCALID:fd69b6313c98b2bba3c8eabf92fe4eda
X-WR-TIMEZONE:America/Chicago
BEGIN:VTIMEZONE
TZID:America/Chicago
BEGIN:STANDARD
TZNAME:CST
DTSTART:20201101T020000
TZOFFSETFROM:-0500
TZOFFSETTO:-0600
RDATE:20211107T020000
RDATE:20221106T020000
END:STANDARD
BEGIN:DAYLIGHT
TZNAME:CDT
DTSTART:20210314T020000
TZOFFSETFROM:-0600
TZOFFSETTO:-0500
RDATE:20220313T020000
END:DAYLIGHT
END:VTIMEZONE
BEGIN:VEVENT
UID:00c6f426-4256-4250-870e-5bfe5e19643a
DTSTAMP:20260423T054011Z
DESCRIPTION:Please bring drinking water
DTSTART;TZID=America/Chicago:20210708T160000
DTEND;TZID=America/Chicago:20210708T170000
LOCATION:Firespring
SUMMARY:Walking Group
END:VEVENT
END:VCALENDAR
