BEGIN:VCALENDAR
VERSION:2.0
PRODID:-//phil.firespring.org//NONSGML kigkonsult.se iCalcreator 2.30.10//
CALSCALE:GREGORIAN
METHOD:PUBLISH
UID:6c32016d-415a-4a2f-8a55-d1b7de2528d8
X-WR-CALDESC:Please bring drinking water
X-WR-RELCALID:c2e4e7c9cc47580c652e2f2d4dd63987
X-WR-TIMEZONE:America/Chicago
BEGIN:VTIMEZONE
TZID:America/Chicago
BEGIN:STANDARD
TZNAME:CST
DTSTART:20201101T020000
TZOFFSETFROM:-0500
TZOFFSETTO:-0600
RDATE:20211107T020000
RDATE:20221106T020000
END:STANDARD
BEGIN:DAYLIGHT
TZNAME:CDT
DTSTART:20210314T020000
TZOFFSETFROM:-0600
TZOFFSETTO:-0500
RDATE:20220313T020000
END:DAYLIGHT
END:VTIMEZONE
BEGIN:VEVENT
UID:d412819a-206d-4378-90de-a6e4ebfbb70d
DTSTAMP:20260423T054044Z
DESCRIPTION:Please bring drinking water
DTSTART;TZID=America/Chicago:20210722T160000
DTEND;TZID=America/Chicago:20210722T170000
LOCATION:Firespring
SUMMARY:Walking Group
END:VEVENT
END:VCALENDAR
