BEGIN:VCALENDAR
VERSION:2.0
PRODID:-//phil.firespring.org//NONSGML kigkonsult.se iCalcreator 2.30.10//
CALSCALE:GREGORIAN
METHOD:PUBLISH
UID:a4248475-b96f-427e-af26-1512684c637a
X-WR-CALDESC:
X-WR-RELCALID:43ff4c71d11a274649be18ab07c4ff31
X-WR-TIMEZONE:America/Chicago
BEGIN:VTIMEZONE
TZID:America/Chicago
BEGIN:STANDARD
TZNAME:CST
DTSTART:20201101T020000
TZOFFSETFROM:-0500
TZOFFSETTO:-0600
RDATE:20211107T020000
RDATE:20221106T020000
END:STANDARD
BEGIN:DAYLIGHT
TZNAME:CDT
DTSTART:20210314T020000
TZOFFSETFROM:-0600
TZOFFSETTO:-0500
RDATE:20220313T020000
END:DAYLIGHT
END:VTIMEZONE
BEGIN:VEVENT
UID:81a3816c-6157-4cdd-952b-8f7a73f6b1b1
DTSTAMP:20260423T053646Z
DESCRIPTION:
DTSTART;TZID=America/Chicago:20210726T100000
DTEND;TZID=America/Chicago:20210726T110000
LOCATION:
SUMMARY:Gala
END:VEVENT
END:VCALENDAR
