BEGIN:VCALENDAR
VERSION:2.0
PRODID:-//phil.firespring.org//NONSGML kigkonsult.se iCalcreator 2.30.10//
CALSCALE:GREGORIAN
METHOD:PUBLISH
UID:aa442311-5bc8-418a-b654-76560b289cf1
X-WR-CALDESC:
X-WR-RELCALID:180fd6ddff9191370c66368b44c89b0d
X-WR-TIMEZONE:America/Chicago
BEGIN:VTIMEZONE
TZID:America/Chicago
BEGIN:STANDARD
TZNAME:CST
DTSTART:20201101T020000
TZOFFSETFROM:-0500
TZOFFSETTO:-0600
RDATE:20211107T020000
RDATE:20221106T020000
END:STANDARD
BEGIN:DAYLIGHT
TZNAME:CDT
DTSTART:20210314T020000
TZOFFSETFROM:-0600
TZOFFSETTO:-0500
RDATE:20220313T020000
END:DAYLIGHT
END:VTIMEZONE
BEGIN:VEVENT
UID:2108a2a3-cd92-4150-b491-d116b859aa52
DTSTAMP:20260423T053629Z
DESCRIPTION:
DTSTART;TZID=America/Chicago:20210728T140000
DTEND;TZID=America/Chicago:20210728T150000
LOCATION:
SUMMARY:Gala
END:VEVENT
END:VCALENDAR
