BEGIN:VCALENDAR
VERSION:2.0
PRODID:-//phil.firespring.org//NONSGML kigkonsult.se iCalcreator 2.30.10//
CALSCALE:GREGORIAN
METHOD:PUBLISH
UID:8c9d814f-ee99-48f8-a799-ee595d2467d5
X-WR-CALDESC:
X-WR-RELCALID:7321d45f935ad4502a3d5346fe8a25e7
X-WR-TIMEZONE:America/Chicago
BEGIN:VTIMEZONE
TZID:America/Chicago
BEGIN:STANDARD
TZNAME:CST
DTSTART:20201101T020000
TZOFFSETFROM:-0500
TZOFFSETTO:-0600
RDATE:20211107T020000
RDATE:20221106T020000
END:STANDARD
BEGIN:DAYLIGHT
TZNAME:CDT
DTSTART:20210314T020000
TZOFFSETFROM:-0600
TZOFFSETTO:-0500
RDATE:20220313T020000
END:DAYLIGHT
END:VTIMEZONE
BEGIN:VEVENT
UID:3de3810b-f3c5-43ce-b215-6a53b94b4273
DTSTAMP:20260423T054225Z
DESCRIPTION:
DTSTART;TZID=America/Chicago:20210728T133000
DTEND;TZID=America/Chicago:20210728T143000
LOCATION:
SUMMARY:The Hollywood Salon
END:VEVENT
END:VCALENDAR
